BEGIN:VCALENDAR
VERSION:2.0
PRODID:ROCKHAL
BEGIN:VEVENT
UID:6355
DTSTAMP:20210705T200000
DTSTART:20210705T200000
DTEND:20210705T233000
SUMMARY:BLACK PUMAS
CLASS:PUBLIC
TRANSP:TRANSPARENT
END:VEVENT
END:VCALENDAR