BEGIN:VCALENDAR
VERSION:2.0
PRODID:ROCKHAL
BEGIN:VEVENT
UID:4194
DTSTAMP:20150228T213000
DTSTART:20150228T213000
DTEND:20150301T010000
SUMMARY:2MANYDJS
CLASS:PUBLIC
TRANSP:TRANSPARENT
END:VEVENT
END:VCALENDAR