BEGIN:VCALENDAR
VERSION:2.0
PRODID:ROCKHAL
BEGIN:VEVENT
UID:3982
DTSTAMP:20150125T190000
DTSTART:20150125T190000
DTEND:20150125T223000
SUMMARY:DIE ANTWOORD
CLASS:PUBLIC
TRANSP:TRANSPARENT
END:VEVENT
END:VCALENDAR