BEGIN:VCALENDAR
VERSION:2.0
PRODID:ROCKHAL
BEGIN:VEVENT
UID:4137
DTSTAMP:20150417T190000
DTSTART:20150417T190000
DTEND:20150417T223000
SUMMARY:THE PAROV STELAR BAND
CLASS:PUBLIC
TRANSP:TRANSPARENT
END:VEVENT
END:VCALENDAR