BEGIN:VCALENDAR
VERSION:2.0
PRODID:ROCKHAL
BEGIN:VEVENT
UID:4007
DTSTAMP:20150214T200000
DTSTART:20150214T200000
DTEND:20150214T233000
SUMMARY:FREEEEZE FESTIVAL WITH RONE
CLASS:PUBLIC
TRANSP:TRANSPARENT
END:VEVENT
END:VCALENDAR