BEGIN:VCALENDAR
VERSION:2.0
PRODID:ROCKHAL
BEGIN:VEVENT
UID:4215
DTSTAMP:20150401T193000
DTSTART:20150401T193000
DTEND:20150401T230000
SUMMARY:Another From Above - "Seasons" EP-Release
CLASS:PUBLIC
TRANSP:TRANSPARENT
END:VEVENT
END:VCALENDAR