BEGIN:VCALENDAR
VERSION:2.0
PRODID:ROCKHAL
BEGIN:VEVENT
UID:6361
DTSTAMP:20211112T200000
DTSTART:20211112T200000
DTEND:20211112T233000
SUMMARY:BLIND GUARDIAN
CLASS:PUBLIC
TRANSP:TRANSPARENT
END:VEVENT
END:VCALENDAR