BEGIN:VCALENDAR
VERSION:2.0
PRODID:ROCKHAL
BEGIN:VEVENT
UID:6352
DTSTAMP:20221124T183000
DTSTART:20221124T183000
DTEND:20221124T220000
SUMMARY:BURY TOMORROW + AUGUST BURNS RED
CLASS:PUBLIC
TRANSP:TRANSPARENT
END:VEVENT
END:VCALENDAR