BEGIN:VCALENDAR
VERSION:2.0
PRODID:ROCKHAL
BEGIN:VEVENT
UID:6369
DTSTAMP:20211122T200000
DTSTART:20211122T200000
DTEND:20211122T233000
SUMMARY:BENJAMIN BIOLAY
CLASS:PUBLIC
TRANSP:TRANSPARENT
END:VEVENT
END:VCALENDAR