BEGIN:VCALENDAR
VERSION:2.0
PRODID:ROCKHAL
BEGIN:VEVENT
UID:3915
DTSTAMP:20150327T210000
DTSTART:20150327T210000
DTEND:20150328T003000
SUMMARY:BIGA RANX
CLASS:PUBLIC
TRANSP:TRANSPARENT
END:VEVENT
END:VCALENDAR