BEGIN:VCALENDAR
VERSION:2.0
PRODID:ROCKHAL
BEGIN:VEVENT
UID:3743
DTSTAMP:20150308T173000
DTSTART:20150308T173000
DTEND:20150308T210000
SUMMARY:BÜLENT CEYLAN - "HAARDROCK"
CLASS:PUBLIC
TRANSP:TRANSPARENT
END:VEVENT
END:VCALENDAR