BEGIN:VCALENDAR
VERSION:2.0
PRODID:ROCKHAL
BEGIN:VEVENT
UID:6362
DTSTAMP:20220115T190000
DTSTART:20220115T190000
DTEND:20220115T223000
SUMMARY:CARMINA BURANA
CLASS:PUBLIC
TRANSP:TRANSPARENT
END:VEVENT
END:VCALENDAR