BEGIN:VCALENDAR
VERSION:2.0
PRODID:ROCKHAL
BEGIN:VEVENT
UID:6396
DTSTAMP:20211212T150000
DTSTART:20211212T150000
DTEND:20211212T183000
SUMMARY:CASSE-NOISETTE
CLASS:PUBLIC
TRANSP:TRANSPARENT
END:VEVENT
END:VCALENDAR