BEGIN:VCALENDAR
VERSION:2.0
PRODID:ROCKHAL
BEGIN:VEVENT
UID:6391
DTSTAMP:20221214T190000
DTSTART:20221214T190000
DTEND:20221214T223000
SUMMARY:CHIPPENDALES
CLASS:PUBLIC
TRANSP:TRANSPARENT
END:VEVENT
END:VCALENDAR