BEGIN:VCALENDAR
VERSION:2.0
PRODID:ROCKHAL
BEGIN:VEVENT
UID:6409
DTSTAMP:20210926T180000
DTSTART:20210926T180000
DTEND:20210926T213000
SUMMARY:DADJU - P.O.A MIEL TOUR
CLASS:PUBLIC
TRANSP:TRANSPARENT
END:VEVENT
END:VCALENDAR