BEGIN:VCALENDAR
VERSION:2.0
PRODID:ROCKHAL
BEGIN:VEVENT
UID:6564
DTSTAMP:20210802T190000
DTSTART:20210802T190000
DTEND:20210802T223000
SUMMARY:DINOSAUR INVASION / 04.07 - 09.09.2021
CLASS:PUBLIC
TRANSP:TRANSPARENT
END:VEVENT
END:VCALENDAR