BEGIN:VCALENDAR
VERSION:2.0
PRODID:ROCKHAL
BEGIN:VEVENT
UID:6502
DTSTAMP:20210725T140000
DTSTART:20210725T140000
DTEND:20210725T173000
SUMMARY:ROCKHAL GARDEN: ELECTRONIC CHILL #5
CLASS:PUBLIC
TRANSP:TRANSPARENT
END:VEVENT
END:VCALENDAR