BEGIN:VCALENDAR
VERSION:2.0
PRODID:ROCKHAL
BEGIN:VEVENT
UID:6366
DTSTAMP:20211209T190000
DTSTART:20211209T190000
DTEND:20211209T223000
SUMMARY:ERA
CLASS:PUBLIC
TRANSP:TRANSPARENT
END:VEVENT
END:VCALENDAR