BEGIN:VCALENDAR
VERSION:2.0
PRODID:ROCKHAL
BEGIN:VEVENT
UID:4181
DTSTAMP:20150325T200000
DTSTART:20150325T200000
DTEND:20150325T233000
SUMMARY:Étienne de Crécy présente SUPER DISCOUNT 3
CLASS:PUBLIC
TRANSP:TRANSPARENT
END:VEVENT
END:VCALENDAR