BEGIN:VCALENDAR
VERSION:2.0
PRODID:ROCKHAL
BEGIN:VEVENT
UID:3902
DTSTAMP:20150420T200000
DTSTART:20150420T200000
DTEND:20150420T233000
SUMMARY:MARCUS MILLER - 'AFRODEEZIA TOUR'
CLASS:PUBLIC
TRANSP:TRANSPARENT
END:VEVENT
END:VCALENDAR