BEGIN:VCALENDAR
VERSION:2.0
PRODID:ROCKHAL
BEGIN:VEVENT
UID:3991
DTSTAMP:20150421T200000
DTSTART:20150421T200000
DTEND:20150421T233000
SUMMARY:MORIARTY
CLASS:PUBLIC
TRANSP:TRANSPARENT
END:VEVENT
END:VCALENDAR