BEGIN:VCALENDAR
VERSION:2.0
PRODID:ROCKHAL
BEGIN:VEVENT
UID:3766
DTSTAMP:20150313T180000
DTSTART:20150313T180000
DTEND:20150313T213000
SUMMARY:Y-TITTY
CLASS:PUBLIC
TRANSP:TRANSPARENT
END:VEVENT
END:VCALENDAR