BEGIN:VCALENDAR
VERSION:2.0
PRODID:ROCKHAL
BEGIN:VEVENT
UID:4131
DTSTAMP:20150303T200000
DTSTART:20150303T200000
DTEND:20150303T233000
SUMMARY:ALL WE ARE
CLASS:PUBLIC
TRANSP:TRANSPARENT
END:VEVENT
END:VCALENDAR