BEGIN:VCALENDAR
VERSION:2.0
PRODID:ROCKHAL
BEGIN:VEVENT
UID:6308
DTSTAMP:20220306T193000
DTSTART:20220306T193000
DTEND:20220306T230000
SUMMARY:ASAF AVIDAN & BAND
CLASS:PUBLIC
TRANSP:TRANSPARENT
END:VEVENT
END:VCALENDAR