BEGIN:VCALENDAR
VERSION:2.0
PRODID:ROCKHAL
BEGIN:VEVENT
UID:3689
DTSTAMP:20150130T200000
DTSTART:20150130T200000
DTEND:20150130T233000
SUMMARY:BRIGITTE
CLASS:PUBLIC
TRANSP:TRANSPARENT
END:VEVENT
END:VCALENDAR