BEGIN:VCALENDAR
VERSION:2.0
PRODID:ROCKHAL
BEGIN:VEVENT
UID:6315
DTSTAMP:20211110T200000
DTSTART:20211110T200000
DTEND:20211110T233000
SUMMARY:CLARA LUCIANI
CLASS:PUBLIC
TRANSP:TRANSPARENT
END:VEVENT
END:VCALENDAR