BEGIN:VCALENDAR
VERSION:2.0
PRODID:ROCKHAL
BEGIN:VEVENT
UID:6299
DTSTAMP:20221009T190000
DTSTART:20221009T190000
DTEND:20221009T223000
SUMMARY:DEEP PURPLE
CLASS:PUBLIC
TRANSP:TRANSPARENT
END:VEVENT
END:VCALENDAR