BEGIN:VCALENDAR
VERSION:2.0
PRODID:ROCKHAL
BEGIN:VEVENT
UID:4035
DTSTAMP:20150121T200000
DTSTART:20150121T200000
DTEND:20150121T233000
SUMMARY:ISAAC DELUSION
CLASS:PUBLIC
TRANSP:TRANSPARENT
END:VEVENT
END:VCALENDAR