BEGIN:VCALENDAR
VERSION:2.0
PRODID:ROCKHAL
BEGIN:VEVENT
UID:3975
DTSTAMP:20150316T190000
DTSTART:20150316T190000
DTEND:20150316T223000
SUMMARY:JAN DELAY & DISKO NO. 1
CLASS:PUBLIC
TRANSP:TRANSPARENT
END:VEVENT
END:VCALENDAR