BEGIN:VCALENDAR
VERSION:2.0
PRODID:ROCKHAL
BEGIN:VEVENT
UID:4016
DTSTAMP:20150226T190000
DTSTART:20150226T190000
DTEND:20150226T223000
SUMMARY:JULIEN DORÉ
CLASS:PUBLIC
TRANSP:TRANSPARENT
END:VEVENT
END:VCALENDAR