BEGIN:VCALENDAR
VERSION:2.0
PRODID:ROCKHAL
BEGIN:VEVENT
UID:3914
DTSTAMP:20150327T190000
DTSTART:20150327T190000
DTEND:20150327T223000
SUMMARY:LIONEL RICHIE - 'ALL THE HITS ALL NIGHT LONG' 2015 EUROPEAN TOUR
CLASS:PUBLIC
TRANSP:TRANSPARENT
END:VEVENT
END:VCALENDAR