BEGIN:VCALENDAR
VERSION:2.0
PRODID:ROCKHAL
BEGIN:VEVENT
UID:4120
DTSTAMP:20150526T200000
DTSTART:20150526T200000
DTEND:20150526T233000
SUMMARY:MIKE + THE MECHANICS
CLASS:PUBLIC
TRANSP:TRANSPARENT
END:VEVENT
END:VCALENDAR