BEGIN:VCALENDAR
VERSION:2.0
PRODID:ROCKHAL
BEGIN:VEVENT
UID:3990
DTSTAMP:20150211T200000
DTSTART:20150211T200000
DTEND:20150211T233000
SUMMARY:MOTORAMA
CLASS:PUBLIC
TRANSP:TRANSPARENT
END:VEVENT
END:VCALENDAR