BEGIN:VCALENDAR
VERSION:2.0
PRODID:ROCKHAL
BEGIN:VEVENT
UID:4133
DTSTAMP:20151211T200000
DTSTART:20151211T200000
DTEND:20151211T233000
SUMMARY:NACH
CLASS:PUBLIC
TRANSP:TRANSPARENT
END:VEVENT
END:VCALENDAR