BEGIN:VCALENDAR
VERSION:2.0
PRODID:ROCKHAL
BEGIN:VEVENT
UID:4015
DTSTAMP:20150224T200000
DTSTART:20150224T200000
DTEND:20150224T233000
SUMMARY:NATAS LOVES YOU
CLASS:PUBLIC
TRANSP:TRANSPARENT
END:VEVENT
END:VCALENDAR