BEGIN:VCALENDAR
VERSION:2.0
PRODID:ROCKHAL
BEGIN:VEVENT
UID:6178
DTSTAMP:20200404T200000
DTSTART:20200404T200000
DTEND:20200404T233000
SUMMARY:PINEWAY - "SHIFT" ALBUM RELEASE PARTY
CLASS:PUBLIC
TRANSP:TRANSPARENT
END:VEVENT
END:VCALENDAR