BEGIN:VCALENDAR
VERSION:2.0
PRODID:ROCKHAL
BEGIN:VEVENT
UID:4280
DTSTAMP:20150515T190000
DTSTART:20150515T190000
DTEND:20150515T223000
SUMMARY:ROCK AGAINST EXCLUSION with FRÉRO DELAVEGA & Isaac Roosevelt
CLASS:PUBLIC
TRANSP:TRANSPARENT
END:VEVENT
END:VCALENDAR