BEGIN:VCALENDAR
VERSION:2.0
PRODID:ROCKHAL
BEGIN:VEVENT
UID:4217
DTSTAMP:20150404T200000
DTSTART:20150404T200000
DTEND:20150404T233000
SUMMARY:TUYS - 'CAROUSEL' EP RELEASE
CLASS:PUBLIC
TRANSP:TRANSPARENT
END:VEVENT
END:VCALENDAR