BEGIN:VCALENDAR
VERSION:2.0
PRODID:ROCKHAL
BEGIN:VEVENT
UID:6449
DTSTAMP:20210423T100000
DTSTART:20210423T100000
DTEND:20210423T133000
SUMMARY:BE A HEARO
CLASS:PUBLIC
TRANSP:TRANSPARENT
END:VEVENT
END:VCALENDAR