BEGIN:VCALENDAR
VERSION:2.0
PRODID:ROCKHAL
BEGIN:VEVENT
UID:6466
DTSTAMP:20210421T200000
DTSTART:20210421T200000
DTEND:20210421T233000
SUMMARY:ROME - ROCKLAB POP-UP SESSIONS #8
CLASS:PUBLIC
TRANSP:TRANSPARENT
END:VEVENT
END:VCALENDAR