BEGIN:VCALENDAR
VERSION:2.0
PRODID:ROCKHAL
BEGIN:VEVENT
UID:6381
DTSTAMP:20211110T190000
DTSTART:20211110T190000
DTEND:20211110T223000
SUMMARY:YUNGBLUD
CLASS:PUBLIC
TRANSP:TRANSPARENT
END:VEVENT
END:VCALENDAR