BEGIN:VCALENDAR
VERSION:2.0
PRODID:ROCKHAL
BEGIN:VEVENT
UID:4257
DTSTAMP:20150502T190000
DTSTART:20150502T190000
DTEND:20150502T223000
SUMMARY:24 HEURES ELECTRONIQUES: NIGHT
CLASS:PUBLIC
TRANSP:TRANSPARENT
END:VEVENT
END:VCALENDAR