BEGIN:VCALENDAR
VERSION:2.0
PRODID:ROCKHAL
BEGIN:VEVENT
UID:6062
DTSTAMP:20200227T200000
DTSTART:20200227T200000
DTEND:20200227T233000
SUMMARY:FRITZ KALKBRENNER
CLASS:PUBLIC
TRANSP:TRANSPARENT
END:VEVENT
END:VCALENDAR