

BEGIN:VCALENDAR
VERSION:2.0
PRODID:ROCKHAL
BEGIN:VEVENT
UID:2024
DTSTAMP:20110507T183000
DTSTART:20110507T183000
DTEND:20110507T220000
SUMMARY:VIBRA(K)TION
CLASS:PUBLIC
TRANSP:TRANSPARENT
END:VEVENT
END:VCALENDAR