BEGIN:VCALENDAR
VERSION:2.0
PRODID:ROCKHAL
BEGIN:VEVENT
UID:6604
DTSTAMP:20211104T100000
DTSTART:20211104T100000
DTEND:20211104T133000
SUMMARY:BEATMAKING WORKSHOP - HIP HOP MARATHON
CLASS:PUBLIC
TRANSP:TRANSPARENT
END:VEVENT
END:VCALENDAR