BEGIN:VCALENDAR
VERSION:2.0
PRODID:ROCKHAL
BEGIN:VEVENT
UID:6459
DTSTAMP:20211104T200000
DTSTART:20211104T200000
DTEND:20211104T233000
SUMMARY:BEN MAZUÉ
CLASS:PUBLIC
TRANSP:TRANSPARENT
END:VEVENT
END:VCALENDAR