BEGIN:VCALENDAR
VERSION:2.0
PRODID:ROCKHAL
BEGIN:VEVENT
UID:6603
DTSTAMP:20211102T100000
DTSTART:20211102T100000
DTEND:20211102T133000
SUMMARY:FUTURE PRODUCER - AN INTRODUCTION TO MUSIC PRODUCTION FOR YOUNGSTERS
CLASS:PUBLIC
TRANSP:TRANSPARENT
END:VEVENT
END:VCALENDAR