

BEGIN:VCALENDAR
VERSION:2.0
PRODID:ROCKHAL
BEGIN:VEVENT
UID:5963
DTSTAMP:20200301T193000
DTSTART:20200301T193000
DTEND:20200301T230000
SUMMARY:KVELERTAK
CLASS:PUBLIC
TRANSP:TRANSPARENT
END:VEVENT
END:VCALENDAR