

BEGIN:VCALENDAR
VERSION:2.0
PRODID:ROCKHAL
BEGIN:VEVENT
UID:6066
DTSTAMP:20200509T190000
DTSTART:20200509T190000
DTEND:20200509T223000
SUMMARY:METAL BATTLE
CLASS:PUBLIC
TRANSP:TRANSPARENT
END:VEVENT
END:VCALENDAR