

BEGIN:VCALENDAR
VERSION:2.0
PRODID:ROCKHAL
BEGIN:VEVENT
UID:6052
DTSTAMP:20201129T180000
DTSTART:20201129T180000
DTEND:20201129T213000
SUMMARY:NIGHTWISH
CLASS:PUBLIC
TRANSP:TRANSPARENT
END:VEVENT
END:VCALENDAR